BEGIN:VCALENDAR
VERSION:2.0
PRODID:-//CPRM - ECPv6.15.20//NONSGML v1.0//EN
CALSCALE:GREGORIAN
METHOD:PUBLISH
X-WR-CALNAME:CPRM
X-ORIGINAL-URL:https://cprmclinicslb.com
X-WR-CALDESC:Events for CPRM
REFRESH-INTERVAL;VALUE=DURATION:PT1H
X-Robots-Tag:noindex
X-PUBLISHED-TTL:PT1H
BEGIN:VTIMEZONE
TZID:UTC
BEGIN:STANDARD
TZOFFSETFROM:+0000
TZOFFSETTO:+0000
TZNAME:UTC
DTSTART:20220101T000000
END:STANDARD
END:VTIMEZONE
BEGIN:VEVENT
DTSTART;TZID=UTC:20240727T093000
DTEND;TZID=UTC:20240727T150000
DTSTAMP:20260422T154601
CREATED:20240819T152555Z
LAST-MODIFIED:20240907T071023Z
UID:6249-1722072600-1722092400@cprmclinicslb.com
SUMMARY:Culture\, représentations sociales et psychanalyse
DESCRIPTION:Salon de lecture\n\n\nRSVP: 70803728
URL:https://cprmclinicslb.com/event/culture-representations-sociales-et-psychanalyse/
CATEGORIES:Learning days (Journée d'enseignement)
ATTACH;FMTTYPE=image/jpeg:https://cprmclinicslb.com/wp-content/uploads/2024/08/WhatsApp-Image-2024-08-16-at-08.44.21.jpeg
END:VEVENT
BEGIN:VEVENT
DTSTART;TZID=UTC:20240725T193000
DTEND;TZID=UTC:20240725T213000
DTSTAMP:20260422T154601
CREATED:20240819T163750Z
LAST-MODIFIED:20240914T112305Z
UID:6272-1721935800-1721943000@cprmclinicslb.com
SUMMARY:Une lecture analytique des recherches transgénérationnelles sur le langage et le lignage
DESCRIPTION:Salon de lecture\n\n\nقراءة تحليلية في ابحاث تعابرية جيلية في اللغة والنسب
URL:https://cprmclinicslb.com/event/6272/
CATEGORIES:Training workshop (Journée de formation)
ATTACH;FMTTYPE=image/jpeg:https://cprmclinicslb.com/wp-content/uploads/2024/08/WhatsApp-Image-2024-08-16-at-08.44.21-2.jpeg
END:VEVENT
BEGIN:VEVENT
DTSTART;TZID=UTC:20240704T190000
DTEND;TZID=UTC:20240704T213000
DTSTAMP:20260422T154601
CREATED:20240819T164924Z
LAST-MODIFIED:20240905T191444Z
UID:6277-1720119600-1720128600@cprmclinicslb.com
SUMMARY:Les dessins des enfants(2)
DESCRIPTION:Salon de lecture\n\n\nLES DESSING DES ENFANTS(2) PRESENTEE PAR DR. RANDA EL BARRAJ
URL:https://cprmclinicslb.com/event/6277/
CATEGORIES:Training workshop (Journée de formation)
ATTACH;FMTTYPE=image/jpeg:https://cprmclinicslb.com/wp-content/uploads/2024/08/WhatsApp-Image-2024-08-16-at-08.44.22.jpeg
END:VEVENT
BEGIN:VEVENT
DTSTART;TZID=UTC:20240629T093000
DTEND;TZID=UTC:20240629T150000
DTSTAMP:20260422T154601
CREATED:20240819T172235Z
LAST-MODIFIED:20240822T125353Z
UID:6283-1719653400-1719673200@cprmclinicslb.com
SUMMARY:LES NOUVELLES CONDUITES ALIMENTAIRES
DESCRIPTION:Salon de lecture\n\n\nLES NOUVELLES CONDUITES ALIMENTAIRES
URL:https://cprmclinicslb.com/event/les-nouvelles-conduites-alimentaires/
CATEGORIES:Learning days (Journée d'enseignement)
ATTACH;FMTTYPE=image/jpeg:https://cprmclinicslb.com/wp-content/uploads/2024/08/WhatsApp-Image-2024-08-16-at-08.44.22-1.jpeg
END:VEVENT
BEGIN:VEVENT
DTSTART;TZID=UTC:20240613T190000
DTEND;TZID=UTC:20240613T213000
DTSTAMP:20260422T154601
CREATED:20240819T173209Z
LAST-MODIFIED:20240907T071243Z
UID:6286-1718305200-1718314200@cprmclinicslb.com
SUMMARY:La complexité du désir féminin
DESCRIPTION:Salon de lecture\n\n\nLA COMPLEXITE DU DESIR FEMININ
URL:https://cprmclinicslb.com/event/la-complexite-du-desir-feminin/
CATEGORIES:Training workshop (Journée de formation)
END:VEVENT
BEGIN:VEVENT
DTSTART;TZID=UTC:20240606T190000
DTEND;TZID=UTC:20240606T213000
DTSTAMP:20260422T154601
CREATED:20240819T174005Z
LAST-MODIFIED:20240907T071212Z
UID:6288-1717700400-1717709400@cprmclinicslb.com
SUMMARY:La narration : l’art du désir de l’autre
DESCRIPTION:Salon de lecture\n\n\nLA NARRATION: L’ART DU DESIR DE L’AUTRE \n\n\n\nرواية القصص: فنّ الرغبة في الآخر
URL:https://cprmclinicslb.com/event/la-narration-lart-du-desir-de-lautre/
CATEGORIES:Training workshop (Journée de formation)
ATTACH;FMTTYPE=image/jpeg:https://cprmclinicslb.com/wp-content/uploads/2024/08/WhatsApp-Image-2024-08-16-at-08.44.22-3.jpeg
END:VEVENT
BEGIN:VEVENT
DTSTART;TZID=UTC:20240524T190000
DTEND;TZID=UTC:20240524T213000
DTSTAMP:20260422T154601
CREATED:20240819T180223Z
LAST-MODIFIED:20240905T191601Z
UID:6293-1716577200-1716586200@cprmclinicslb.com
SUMMARY:لقاء بعنوان خفايا الذات بين الاحلام الفردية وسجن الحلم الجمعي
DESCRIPTION:لقاء بعنوان خفايا الذات بين الاحلام الفردية وسجن الحلم الجمعي مع الاستاذ مازن عبدالله والاستاذ حيدر صفا حول كتاب: غبار في الفضاء
URL:https://cprmclinicslb.com/event/%d9%82%d8%a7%d8%a1-%d8%a8%d8%b9%d9%86%d9%88%d8%a7%d9%86-%d8%ae%d9%81%d8%a7%d9%8a%d8%a7-%d8%a7%d9%84%d8%b0%d8%a7%d8%aa-%d8%a8%d9%8a%d9%86-%d8%a7%d9%84%d8%a7%d8%ad%d9%84%d8%a7%d9%85-%d8%a7%d9%84%d9%81/
CATEGORIES:Salon de lecture
ATTACH;FMTTYPE=image/jpeg:https://cprmclinicslb.com/wp-content/uploads/2024/08/WhatsApp-Image-2024-08-16-at-08.44.24.jpeg
END:VEVENT
BEGIN:VEVENT
DTSTART;TZID=UTC:20240516T190000
DTEND;TZID=UTC:20240516T213000
DTSTAMP:20260422T154601
CREATED:20240819T174546Z
LAST-MODIFIED:20240907T071137Z
UID:6291-1715886000-1715895000@cprmclinicslb.com
SUMMARY:La psychanalyse de familles recomposées : recomposition ou décomposition
DESCRIPTION:Salon de lecture\n\n\nLA PSYCHANLYSE DE FAMILLES RECOMPOSEES: RECOMPOSITION OU DECOMPOSITION
URL:https://cprmclinicslb.com/event/la-psychanlyse-de-familles-recomposees-recomposition-ou-decomposition/
CATEGORIES:Training workshop (Journée de formation)
ATTACH;FMTTYPE=image/jpeg:https://cprmclinicslb.com/wp-content/uploads/2024/08/WhatsApp-Image-2024-08-16-at-08.44.23.jpeg
END:VEVENT
BEGIN:VEVENT
DTSTART;TZID=UTC:20240425T190000
DTEND;TZID=UTC:20240425T220000
DTSTAMP:20260422T154601
CREATED:20240422T190055Z
LAST-MODIFIED:20240430T064053Z
UID:5957-1714071600-1714082400@cprmclinicslb.com
SUMMARY:لقاء مع المايسترو لبنان بعلبكي
DESCRIPTION:Salon de lecture\n\n\n\n\n\nEvent SummaryOn April 25\, 2024\, the CPRM Center hosted Maestro Lebanon Baalbaki\, sparking discussions on music\, politics\, and psychology. Dr. Randa el Barraj introduced the event\, setting the stage for an engaging dialogue. Baalbaki shared insights from his musical journey and leadership in the orchestral world. Dr.Raja Makki concluded with a thought-provoking analysis\, highlighting the event’s significance in bridging cultural and psychological dimensions. \n\n\n\n\nلقاء مع المايسترو لبنان بعلبكي\n\n\n\n.الموسيقى بين تحدّيات الواقع السياسي والمآزم النفسية \n\n\n\nالخميس في 25 نيسان 2024، الساعة السابعة مساءً \n\n\n\nملتقى السفير – مبنى جريدة السفير – الحمرا – بيروت
URL:https://cprmclinicslb.com/event/%d9%84%d9%82%d8%a7%d8%a1-%d9%85%d8%b9-%d8%a7%d9%84%d9%85%d8%a7%d9%8a%d8%b3%d8%aa%d8%b1%d9%88-%d9%84%d8%a8%d9%86%d8%a7%d9%86-%d8%a8%d8%b9%d9%84%d8%a8%d9%83%d9%8a/
CATEGORIES:Débat psy
ATTACH;FMTTYPE=image/jpeg:https://cprmclinicslb.com/wp-content/uploads/2024/04/WhatsApp-Image-2024-04-22-at-16.21.48.jpeg
END:VEVENT
BEGIN:VEVENT
DTSTART;TZID=UTC:20240420T091500
DTEND;TZID=UTC:20240420T150000
DTSTAMP:20260422T154601
CREATED:20240422T091559Z
LAST-MODIFIED:20240429T195543Z
UID:5960-1713604500-1713625200@cprmclinicslb.com
SUMMARY:La psychanalyse avec les adolescents
DESCRIPTION:Salon de lecture\n\n\n\n\nLe samedi 20 avril\, 2024 0\, 9:15h \n\n\n\nCentral Business Center – Horsh Tabet – Sin El Fil \n\n\n\n\n\n\n\n\n\n\n\n\n\n\n\n\nSalon de lecture
URL:https://cprmclinicslb.com/event/les-dessins-des-enfants/
CATEGORIES:Learning days (Journée d'enseignement)
ATTACH;FMTTYPE=image/jpeg:https://cprmclinicslb.com/wp-content/uploads/2024/04/WhatsApp-Image-2024-04-22-at-16.23.11.jpeg
END:VEVENT
BEGIN:VEVENT
DTSTART;TZID=UTC:20240418T190000
DTEND;TZID=UTC:20240418T213000
DTSTAMP:20260422T154601
CREATED:20240422T203647Z
LAST-MODIFIED:20240905T191912Z
UID:5963-1713466800-1713475800@cprmclinicslb.com
SUMMARY:Les dessins des enfants
DESCRIPTION:Salon de lecture\n\n\n\n\nLes dessins des enfants\n\n\n\nLe jeudi 18 avril\, 2024\, 19:00h \n\n\n\nZoom
URL:https://cprmclinicslb.com/event/%d8%a5%d9%81%d8%b7%d8%a7%d8%b1-%d8%b1%d9%85%d8%b6%d8%a7%d9%86-2024/
CATEGORIES:Training workshop (Journée de formation)
ATTACH;FMTTYPE=image/jpeg:https://cprmclinicslb.com/wp-content/uploads/2024/04/WhatsApp-Image-2024-04-22-at-16.23.43.jpeg
END:VEVENT
BEGIN:VEVENT
DTSTART;TZID=UTC:20240404T183000
DTEND;TZID=UTC:20240404T200000
DTSTAMP:20260422T154601
CREATED:20240422T204130Z
LAST-MODIFIED:20240429T195505Z
UID:5969-1712255400-1712260800@cprmclinicslb.com
SUMMARY:إفطار رمضان 2024
DESCRIPTION:Salon de lecture\n\n\n\n\nإفطار رمضان 2024\n\n\n\nالخميس في 4 نيسان 2024 \n\n\n\nدار بيروت – الجميزة
URL:https://cprmclinicslb.com/event/%d8%a5%d9%81%d8%b7%d8%a7%d8%b1-%d8%b1%d9%85%d8%b6%d8%a7%d9%86-2024-2/
CATEGORIES:افطار رمضان
ATTACH;FMTTYPE=image/jpeg:https://cprmclinicslb.com/wp-content/uploads/2024/04/WhatsApp-Image-2024-04-22-at-16.24.13.jpeg
END:VEVENT
BEGIN:VEVENT
DTSTART;TZID=UTC:20240203T093000
DTEND;TZID=UTC:20240203T153000
DTSTAMP:20260422T154601
CREATED:20240203T093013Z
LAST-MODIFIED:20240429T195529Z
UID:5972-1706952600-1706974200@cprmclinicslb.com
SUMMARY:La psychanalyse des enfants
DESCRIPTION:Salon de lecture\n\n\n\n\nLe samedi 03 février\,2024\, 09:30h \n\n\n\nOrdre des psychologies duLiban (LOPsy) – Beirut \n\n\n\n 
URL:https://cprmclinicslb.com/event/la-psychanalyse-des-enfants/
CATEGORIES:Learning days (Journée d'enseignement)
ATTACH;FMTTYPE=image/jpeg:https://cprmclinicslb.com/wp-content/uploads/2024/04/WhatsApp-Image-2024-04-22-at-16.26.28.jpeg
END:VEVENT
BEGIN:VEVENT
DTSTART;TZID=UTC:20231215T183000
DTEND;TZID=UTC:20231215T200000
DTSTAMP:20260422T154601
CREATED:20240422T204746Z
LAST-MODIFIED:20240429T195649Z
UID:5976-1702665000-1702670400@cprmclinicslb.com
SUMMARY:Comprendre les troubles factices et les comportements compulsifs
DESCRIPTION:Salon de lecture\n\n\n\n\nLe vendredi 15 décembre\, 2023\, 18:30h \n\n\n\nZoom
URL:https://cprmclinicslb.com/event/comprendre-les-troubles-factices-et-les-comportements-compulsifs/
CATEGORIES:Training workshop (Journée de formation)
ATTACH;FMTTYPE=image/jpeg:https://cprmclinicslb.com/wp-content/uploads/2024/04/WhatsApp-Image-2024-04-22-at-16.27.07.jpeg
END:VEVENT
BEGIN:VEVENT
DTSTART;TZID=UTC:20231209T093000
DTEND;TZID=UTC:20231209T143000
DTSTAMP:20260422T154601
CREATED:20240422T204917Z
LAST-MODIFIED:20240429T195732Z
UID:5979-1702114200-1702132200@cprmclinicslb.com
SUMMARY:La psychanalyse et les institutions
DESCRIPTION:Salon de lecture\n\n\n\n\nLe samedi 09 décembre\, 2023\, 09:30h \n\n\n\nZoom
URL:https://cprmclinicslb.com/event/la-psychanalyse-et-les-institutions/
CATEGORIES:Learning days (Journée d'enseignement)
ATTACH;FMTTYPE=image/jpeg:https://cprmclinicslb.com/wp-content/uploads/2024/04/WhatsApp-Image-2024-04-22-at-16.27.47.jpeg
END:VEVENT
BEGIN:VEVENT
DTSTART;TZID=UTC:20231123T193000
DTEND;TZID=UTC:20231123T210000
DTSTAMP:20260422T154601
CREATED:20240422T205043Z
LAST-MODIFIED:20240429T195839Z
UID:5982-1700767800-1700773200@cprmclinicslb.com
SUMMARY:لقاء مع المصوّرة الفوتوغرافية مها معلوف
DESCRIPTION:Salon de lecture\n\n\n\n\nلقاء مع المصوّرة الفوتوغرافية مها معلوف\n\n\n\nالتصوير الفوتوغرافي بين الأمومة وصورة الذّات \n\n\n\nالخميس في 23 تشرين الثاني 2023، الساعة السابعة والنصف مساءً \n\n\n\nZoom
URL:https://cprmclinicslb.com/event/%d9%84%d9%82%d8%a7%d8%a1-%d9%85%d8%b9-%d8%a7%d9%84%d9%85%d8%b5%d9%88%d9%91%d8%b1%d8%a9-%d8%a7%d9%84%d9%81%d9%88%d8%aa%d9%88%d8%ba%d8%b1%d8%a7%d9%81%d9%8a%d8%a9-%d9%85%d9%87%d8%a7-%d9%85%d8%b9%d9%84/
CATEGORIES:Débat psy
ATTACH;FMTTYPE=image/jpeg:https://cprmclinicslb.com/wp-content/uploads/2024/04/WhatsApp-Image-2024-04-22-at-16.28.40.jpeg
END:VEVENT
BEGIN:VEVENT
DTSTART;TZID=UTC:20231021T210000
DTEND;TZID=UTC:20231021T220000
DTSTAMP:20260422T154601
CREATED:20240422T210141Z
LAST-MODIFIED:20240429T195932Z
UID:5991-1697922000-1697925600@cprmclinicslb.com
SUMMARY:CPRM Annual Gala Dinner
DESCRIPTION:Salon de lecture\n\n\n\n\nSaturday on 21 October 2023\, at 9 pm \n\n\n\nRadisson hotel – Verdun – Beirut
URL:https://cprmclinicslb.com/event/cprm-annual-gala-dinner/
CATEGORIES:Gala Dinner
ATTACH;FMTTYPE=image/jpeg:https://cprmclinicslb.com/wp-content/uploads/2024/04/WhatsApp-Image-2024-04-22-at-16.31.15.jpeg
END:VEVENT
BEGIN:VEVENT
DTSTART;TZID=UTC:20231021T083000
DTEND;TZID=UTC:20231021T173000
DTSTAMP:20260422T154601
CREATED:20240422T210040Z
LAST-MODIFIED:20240429T200033Z
UID:5987-1697877000-1697909400@cprmclinicslb.com
SUMMARY:مؤتمر الاستثمارات النفسية في المكان واللامكان: لبنان قيد التجربة
DESCRIPTION:Salon de lecture\n\n\n\n\nمؤتمر الاستثمارات النفسية في المكان واللامكان: لبنان قيد التجربة\n\n\n\nالسبت في  21 تشرين الأول 2023 \n\n\n\nمسرح بيريت – جامعة القديس يوسف – بيروت
URL:https://cprmclinicslb.com/event/%d9%85%d8%a4%d8%aa%d9%85%d8%b1-%d8%a7%d9%84%d8%a7%d8%b3%d8%aa%d8%ab%d9%85%d8%a7%d8%b1%d8%a7%d8%aa-%d8%a7%d9%84%d9%86%d9%81%d8%b3%d9%8a%d8%a9-%d9%81%d9%8a-%d8%a7%d9%84%d9%85%d9%83%d8%a7%d9%86-%d9%88/
CATEGORIES:Learning days (Journée d'enseignement)
ATTACH;FMTTYPE=image/jpeg:https://cprmclinicslb.com/wp-content/uploads/2018/07/WhatsApp-Image-2024-03-08-at-23.29.19-2.jpeg
END:VEVENT
BEGIN:VEVENT
DTSTART;TZID=UTC:20230727T193000
DTEND;TZID=UTC:20230727T213000
DTSTAMP:20260422T154601
CREATED:20240422T210337Z
LAST-MODIFIED:20240429T200046Z
UID:5993-1690486200-1690493400@cprmclinicslb.com
SUMMARY:لقاء مع الفنان عمران القيسي
DESCRIPTION:Salon de lecture\n\n\n\n\nلقاء مع الفنان عمران القيسي\n\n\n\nرحلة بين الكلمة والصورة \n\n\n\nالخميس في 27 تموز 2023، الساعة السابعة مساءً Zoom
URL:https://cprmclinicslb.com/event/%d9%84%d9%82%d8%a7%d8%a1-%d9%85%d8%b9-%d8%a7%d9%84%d9%81%d9%86%d8%a7%d9%86-%d8%b9%d9%85%d8%b1%d8%a7%d9%86-%d8%a7%d9%84%d9%82%d9%8a%d8%b3%d9%8a/
CATEGORIES:Salon de lecture
ATTACH;FMTTYPE=image/jpeg:https://cprmclinicslb.com/wp-content/uploads/2024/04/WhatsApp-Image-2024-04-22-at-16.32.33.jpeg
END:VEVENT
BEGIN:VEVENT
DTSTART;TZID=UTC:20230708T093000
DTEND;TZID=UTC:20230708T143000
DTSTAMP:20260422T154601
CREATED:20240422T210526Z
LAST-MODIFIED:20240907T070933Z
UID:5996-1688808600-1688826600@cprmclinicslb.com
SUMMARY:MODERNITÉ ; Angoisse et rapport à l’objet
DESCRIPTION:Salon de lecture\n\n\n\n\nLe samedi 08 juillet\, 2023\, 09:30h Zoom
URL:https://cprmclinicslb.com/event/modernite-angoisse-et-rapport-a-lobjet/
CATEGORIES:Learning days (Journée d'enseignement)
ATTACH;FMTTYPE=image/jpeg:https://cprmclinicslb.com/wp-content/uploads/2024/04/WhatsApp-Image-2024-04-22-at-16.32.33-1.jpeg
END:VEVENT
BEGIN:VEVENT
DTSTART;TZID=UTC:20230610T100000
DTEND;TZID=UTC:20230610T130000
DTSTAMP:20260422T154601
CREATED:20240422T210647Z
LAST-MODIFIED:20240429T200317Z
UID:5999-1686391200-1686402000@cprmclinicslb.com
SUMMARY:Traumas des tremblements de terre: Approche psychanalytique
DESCRIPTION:Salon de lecture\n\n\n\n\nLe samedi 10 juin 2023\, 10:00h Zoom
URL:https://cprmclinicslb.com/event/traumas-des-tremblements-de-terre-approche-psychanalytique/
CATEGORIES:Training workshop (Journée de formation)
ATTACH;FMTTYPE=image/jpeg:https://cprmclinicslb.com/wp-content/uploads/2024/04/WhatsApp-Image-2024-04-22-at-16.32.33-2.jpeg
END:VEVENT
BEGIN:VEVENT
DTSTART;TZID=UTC:20230516T190000
DTEND;TZID=UTC:20230516T220000
DTSTAMP:20260422T154601
CREATED:20240422T210806Z
LAST-MODIFIED:20240429T200435Z
UID:6002-1684263600-1684274400@cprmclinicslb.com
SUMMARY:CHLOE
DESCRIPTION:Salon de lecture\n\n\n\n\nTuesday 16 May 2023 at 7:00 pm \n\n\n\nAbajour – Beirut
URL:https://cprmclinicslb.com/event/chloe/
CATEGORIES:Ciné psy
ATTACH;FMTTYPE=image/jpeg:https://cprmclinicslb.com/wp-content/uploads/2018/07/WhatsApp-Image-2024-03-08-at-23.29.19-3.jpeg
END:VEVENT
BEGIN:VEVENT
DTSTART;TZID=UTC:20230506T093000
DTEND;TZID=UTC:20230506T133000
DTSTAMP:20260422T154601
CREATED:20240422T211023Z
LAST-MODIFIED:20240429T200457Z
UID:6004-1683365400-1683379800@cprmclinicslb.com
SUMMARY:Contrôle des groupes
DESCRIPTION:Salon de lecture\n\n\n\n\nCPRM – Beyrouth \n\n\n\nLe samedi 06 mai 2023
URL:https://cprmclinicslb.com/event/controle-des-groupes/
CATEGORIES:Contrôle des groupes
ATTACH;FMTTYPE=image/jpeg:https://cprmclinicslb.com/wp-content/uploads/2024/04/WhatsApp-Image-2024-04-22-at-16.32.32.jpeg
END:VEVENT
BEGIN:VEVENT
DTSTART;TZID=UTC:20230418T183000
DTEND;TZID=UTC:20230418T203000
DTSTAMP:20260422T154601
CREATED:20240422T211149Z
LAST-MODIFIED:20240429T200526Z
UID:6007-1681842600-1681849800@cprmclinicslb.com
SUMMARY:إفطار رمضان 2023
DESCRIPTION:Salon de lecture\n\n\n\n\nإفطار رمضان 2023\n\n\n\nالخميس في 18 نيسان 2023 \n\n\n\nدار بيروت – الجميزة
URL:https://cprmclinicslb.com/event/%d8%a5%d9%81%d8%b7%d8%a7%d8%b1-%d8%b1%d9%85%d8%b6%d8%a7%d9%86-2023/
CATEGORIES:افطار رمضان
ATTACH;FMTTYPE=image/jpeg:https://cprmclinicslb.com/wp-content/uploads/2024/04/WhatsApp-Image-2024-04-22-at-16.32.32-1.jpeg
END:VEVENT
BEGIN:VEVENT
DTSTART;TZID=UTC:20230316T190000
DTEND;TZID=UTC:20230316T210000
DTSTAMP:20260422T154601
CREATED:20240422T211307Z
LAST-MODIFIED:20240429T200553Z
UID:6010-1678993200-1679000400@cprmclinicslb.com
SUMMARY:لقاء مع السيدة لمياء المبيّض بساط
DESCRIPTION:Salon de lecture\n\n\n\n\nلقاء مع السيدة لمياء المبيّض بساط\n\n\n\nزمانية الذاكرة “الصدمة التعابرية” \n\n\n\nالخميس في 16 آذار 2023، الساعة السابعة مساءً \n\n\n\nZoom
URL:https://cprmclinicslb.com/event/%d9%84%d9%82%d8%a7%d8%a1-%d9%85%d8%b9-%d8%a7%d9%84%d8%b3%d9%8a%d8%af%d8%a9-%d9%84%d9%85%d9%8a%d8%a7%d8%a1-%d8%a7%d9%84%d9%85%d8%a8%d9%8a%d9%91%d8%b6-%d8%a8%d8%b3%d8%a7%d8%b7/
CATEGORIES:Salon de lecture
ATTACH;FMTTYPE=image/jpeg:https://cprmclinicslb.com/wp-content/uploads/2024/04/WhatsApp-Image-2024-04-22-at-16.32.32-2.jpeg
END:VEVENT
BEGIN:VEVENT
DTSTART;TZID=UTC:20230125T190000
DTEND;TZID=UTC:20230125T213000
DTSTAMP:20260422T154601
CREATED:20240422T211441Z
LAST-MODIFIED:20240429T200632Z
UID:6012-1674673200-1674682200@cprmclinicslb.com
SUMMARY:لقاء حواري مع الدكتورة ليلى عاقوري ديراني
DESCRIPTION:Salon de lecture\n\n\n\n\nلقاء حواري مع الدكتورة ليلى عاقوري ديراني\n\n\n\nلقاء حواري مع الدكتورة ليلى عاقوري ديراني \n\n\n\nرئيسة نقابة النفسانيين في لبنان \n\n\n\nالربعاء في 25 كانون الثاني 2023، الساعة السابعة مساءً مقهى أباجور – بيروت – العدلية
URL:https://cprmclinicslb.com/event/%d9%84%d9%82%d8%a7%d8%a1-%d8%ad%d9%88%d8%a7%d8%b1%d9%8a-%d9%85%d8%b9-%d8%a7%d9%84%d8%af%d9%83%d8%aa%d9%88%d8%b1%d8%a9-%d9%84%d9%8a%d9%84%d9%89-%d8%b9%d8%a7%d9%82%d9%88%d8%b1%d9%8a-%d8%af%d9%8a%d8%b1/
CATEGORIES:لقاء حواري
ATTACH;FMTTYPE=image/jpeg:https://cprmclinicslb.com/wp-content/uploads/2024/04/WhatsApp-Image-2024-04-22-at-16.32.31.jpeg
END:VEVENT
END:VCALENDAR