BEGIN:VCALENDAR
VERSION:2.0
PRODID:-//CPRM - ECPv6.15.20//NONSGML v1.0//EN
CALSCALE:GREGORIAN
METHOD:PUBLISH
X-WR-CALNAME:CPRM
X-ORIGINAL-URL:https://cprmclinicslb.com
X-WR-CALDESC:Events for CPRM
REFRESH-INTERVAL;VALUE=DURATION:PT1H
X-Robots-Tag:noindex
X-PUBLISHED-TTL:PT1H
BEGIN:VTIMEZONE
TZID:UTC
BEGIN:STANDARD
TZOFFSETFROM:+0000
TZOFFSETTO:+0000
TZNAME:UTC
DTSTART:20230101T000000
END:STANDARD
END:VTIMEZONE
BEGIN:VEVENT
DTSTART;TZID=UTC:20250925T190000
DTEND;TZID=UTC:20250925T210000
DTSTAMP:20260422T124555
CREATED:20250918T073439Z
LAST-MODIFIED:20250918T073443Z
UID:6875-1758826800-1758834000@cprmclinicslb.com
SUMMARY:JOURNÉE DE FORMATION
DESCRIPTION:L’ATTACHEMENT DANS LA PETITE ENFANCE :INCIDENCES SUR LA STRUCTURATION PSYCHIQUE ET LE LIEN RELATIONNEL \n\n\n\nالتعلق في مرحلة الطفولة المبكرة:تداعياته على النمو النفسي والعلاقتي \n\n\n\n\n\n\n\n\n\nPrésentée parDr NADIA CHAHROUR
URL:https://cprmclinicslb.com/event/journee-de-formation/
CATEGORIES:Journée de formation
END:VEVENT
BEGIN:VEVENT
DTSTART;TZID=UTC:20250728T180000
DTEND;TZID=UTC:20250728T200000
DTSTAMP:20260422T124555
CREATED:20250719T134319Z
LAST-MODIFIED:20250719T134321Z
UID:6820-1753725600-1753732800@cprmclinicslb.com
SUMMARY:TRANSFERT ET REMANIEMENT SUBJECTIF À L’ORÉE DE L’ÂGE ADULTE: QUESTIONS DE GENRE ET DE SEXUALITÉ DANS LA CURE ANALYTIQUE
DESCRIPTION:Réservez votre place maintenant !🗣️ Traduction en arabe assurée \n\n\n\n📣 انضموا إلينا في ورشة تدريبية مع الأستاذ مارك-أنطوان بوردو! \n\n\n\n🧠 الموضوع: التحويل وقضايا النوع والجنسانية في العلاج التحليلي عند عتبة الرشد
URL:https://cprmclinicslb.com/event/transfert-et-remaniement-subjectif-a-loree-de-lage-adulte-questions-de-genre-et-de-sexualite-dans-la-cure-analytique/
LOCATION:BDD (Beirut Digital District)
CATEGORIES:Journée de formation
END:VEVENT
BEGIN:VEVENT
DTSTART;TZID=UTC:20250623T193000
DTEND;TZID=UTC:20250623T213000
DTSTAMP:20260422T124555
CREATED:20250618T081024Z
LAST-MODIFIED:20250618T091946Z
UID:6810-1750707000-1750714200@cprmclinicslb.com
SUMMARY:CPRM Organise une journée de formationL - UNHEIMLICH INQUIÉTANTE ÉTRANGETÉ - الغَرابَة المُقْلِقَة
DESCRIPTION:Présentée parM. Frédéric de RivoyreLundi 23 Juin 2025
URL:https://cprmclinicslb.com/event/cprm-organise-une-journee-de-formationlunheimlichinquietante-etrangete-%d8%a7%d9%84%d8%ba%d9%8e%d8%b1%d8%a7%d8%a8%d9%8e%d8%a9-%d8%a7%d9%84%d9%85%d9%8f%d9%82%d9%92%d9%84%d9%90%d9%82%d9%8e%d8%a9/
CATEGORIES:Journée de formation
END:VEVENT
BEGIN:VEVENT
DTSTART;TZID=UTC:20250522T190000
DTEND;TZID=UTC:20250522T210000
DTSTAMP:20260422T124555
CREATED:20250519T100557Z
LAST-MODIFIED:20250519T100709Z
UID:6788-1747940400-1747947600@cprmclinicslb.com
SUMMARY:CONTES ET PSYCHANALYSE : MIROIRS DE L’INCONSCIENT
DESCRIPTION:قصص الأطفال و التحليل النفسي : مرايا اللاوعي \n\n\n\n\n\n\n\n \n\n\n\n \n\n\n\nPrésentée parMadame Randa Barrage
URL:https://cprmclinicslb.com/event/contes-et-psychanalyse-miroirs-de-linconscient%d9%82%d8%b5%d8%b5-%d8%a7%d9%84%d8%a3%d8%b7%d9%81%d8%a7%d9%84-%d9%88-%d8%a7%d9%84%d8%aa%d8%ad%d9%84%d9%8a%d9%84-%d8%a7%d9%84%d9%86%d9%81%d8%b3/
LOCATION:Zoom
CATEGORIES:Journée de formation
END:VEVENT
BEGIN:VEVENT
DTSTART;TZID=UTC:20250410T190000
DTEND;TZID=UTC:20250410T210000
DTSTAMP:20260422T124555
CREATED:20250326T221656Z
LAST-MODIFIED:20250412T080204Z
UID:6707-1744311600-1744318800@cprmclinicslb.com
SUMMARY:LES DÉTRACTEURS DE LA PSYCHANALYSE ONT-ILS UN AVENIR?هل لنُقاد التحليل النفسي مستقبل؟
DESCRIPTION:Présentée parMme Vannina Micheli-Rechtman
URL:https://cprmclinicslb.com/event/les-detracteurs-de-la-psychanalyse-ont-ils-un-avenir%d9%87%d9%84-%d9%84%d9%86%d9%8f%d9%82%d8%a7%d8%af-%d8%a7%d9%84%d8%aa%d8%ad%d9%84%d9%8a%d9%84-%d8%a7%d9%84%d9%86%d9%81%d8%b3%d9%8a-%d9%85%d8%b3/
CATEGORIES:Journée de formation
ATTACH;FMTTYPE=image/jpeg:https://cprmclinicslb.com/wp-content/uploads/2025/03/WhatsApp-Image-2025-03-26-at-22.06.59.jpeg
END:VEVENT
BEGIN:VEVENT
DTSTART;TZID=UTC:20250322T143000
DTEND;TZID=UTC:20250322T163000
DTSTAMP:20260422T124555
CREATED:20250314T153305Z
LAST-MODIFIED:20250412T080131Z
UID:6693-1742653800-1742661000@cprmclinicslb.com
SUMMARY:DE L'ÉCRAN À L'INCONSCIENT:LE CINÉMA COMME REFLET DE LA PSYCHANALYSE             من الشاشة إلى اللاوعي: السينما مرآة التحليل النفسي
DESCRIPTION:
URL:https://cprmclinicslb.com/event/de-lecran-a-linconscientle-cinema-comme-reflet-de-la-psychanalyse-%d9%85%d9%86-%d8%a7%d9%84%d8%b4%d8%a7%d8%b4%d8%a9-%d8%a5%d9%84%d9%89-%d8%a7%d9%84%d9%84%d8%a7%d9%88%d8%b9%d9%8a/
CATEGORIES:Journée de formation
ATTACH;FMTTYPE=image/jpeg:https://cprmclinicslb.com/wp-content/uploads/2025/03/WhatsApp-Image-2025-03-14-at-17.09.15.jpeg
END:VEVENT
BEGIN:VEVENT
DTSTART;TZID=UTC:20241212T190000
DTEND;TZID=UTC:20241212T213000
DTSTAMP:20260422T124555
CREATED:20241212T082219Z
LAST-MODIFIED:20241212T083307Z
UID:6423-1734030000-1734039000@cprmclinicslb.com
SUMMARY:LA CYBERSÉCURITÉ COMME GÉNÉRATEUR D’ANGOISSE DANS UNE SOCIÉTÉ EN MUTATION
DESCRIPTION:
URL:https://cprmclinicslb.com/event/la-cybersecurite-comme-generateur-dangoisse-dans-une-societe-en-mutation-%d8%a7%d9%84%d8%a3%d9%85%d9%86-%d8%a7%d9%84%d8%b3%d9%8a%d8%a8%d8%b1%d8%a7%d9%86%d9%8a-%d9%83%d9%85%d9%88%d9%84%d8%af/
CATEGORIES:Journée de formation
ATTACH;FMTTYPE=image/jpeg:https://cprmclinicslb.com/wp-content/uploads/2024/12/WhatsApp-Image-2024-12-11-at-13.39.24-1.jpeg
END:VEVENT
END:VCALENDAR