BEGIN:VCALENDAR
VERSION:2.0
PRODID:-//CPRM - ECPv6.15.20//NONSGML v1.0//EN
CALSCALE:GREGORIAN
METHOD:PUBLISH
X-ORIGINAL-URL:https://cprmclinicslb.com
X-WR-CALDESC:Events for CPRM
REFRESH-INTERVAL;VALUE=DURATION:PT1H
X-Robots-Tag:noindex
X-PUBLISHED-TTL:PT1H
BEGIN:VTIMEZONE
TZID:UTC
BEGIN:STANDARD
TZOFFSETFROM:+0000
TZOFFSETTO:+0000
TZNAME:UTC
DTSTART:20220101T000000
END:STANDARD
END:VTIMEZONE
BEGIN:VEVENT
DTSTART;TZID=UTC:20240425T190000
DTEND;TZID=UTC:20240425T220000
DTSTAMP:20260422T124624
CREATED:20240422T190055Z
LAST-MODIFIED:20240430T064053Z
UID:5957-1714071600-1714082400@cprmclinicslb.com
SUMMARY:لقاء مع المايسترو لبنان بعلبكي
DESCRIPTION:Débat psy\n\n\n\n\n\nEvent SummaryOn April 25\, 2024\, the CPRM Center hosted Maestro Lebanon Baalbaki\, sparking discussions on music\, politics\, and psychology. Dr. Randa el Barraj introduced the event\, setting the stage for an engaging dialogue. Baalbaki shared insights from his musical journey and leadership in the orchestral world. Dr.Raja Makki concluded with a thought-provoking analysis\, highlighting the event’s significance in bridging cultural and psychological dimensions. \n\n\n\n\nلقاء مع المايسترو لبنان بعلبكي\n\n\n\n.الموسيقى بين تحدّيات الواقع السياسي والمآزم النفسية \n\n\n\nالخميس في 25 نيسان 2024، الساعة السابعة مساءً \n\n\n\nملتقى السفير – مبنى جريدة السفير – الحمرا – بيروت
URL:https://cprmclinicslb.com/event/%d9%84%d9%82%d8%a7%d8%a1-%d9%85%d8%b9-%d8%a7%d9%84%d9%85%d8%a7%d9%8a%d8%b3%d8%aa%d8%b1%d9%88-%d9%84%d8%a8%d9%86%d8%a7%d9%86-%d8%a8%d8%b9%d9%84%d8%a8%d9%83%d9%8a/
CATEGORIES:Débat psy
ATTACH;FMTTYPE=image/jpeg:https://cprmclinicslb.com/wp-content/uploads/2024/04/WhatsApp-Image-2024-04-22-at-16.21.48.jpeg
END:VEVENT
BEGIN:VEVENT
DTSTART;TZID=UTC:20231123T193000
DTEND;TZID=UTC:20231123T210000
DTSTAMP:20260422T124624
CREATED:20240422T205043Z
LAST-MODIFIED:20240429T195839Z
UID:5982-1700767800-1700773200@cprmclinicslb.com
SUMMARY:لقاء مع المصوّرة الفوتوغرافية مها معلوف
DESCRIPTION:Débat psy\n\n\n\n\nلقاء مع المصوّرة الفوتوغرافية مها معلوف\n\n\n\nالتصوير الفوتوغرافي بين الأمومة وصورة الذّات \n\n\n\nالخميس في 23 تشرين الثاني 2023، الساعة السابعة والنصف مساءً \n\n\n\nZoom
URL:https://cprmclinicslb.com/event/%d9%84%d9%82%d8%a7%d8%a1-%d9%85%d8%b9-%d8%a7%d9%84%d9%85%d8%b5%d9%88%d9%91%d8%b1%d8%a9-%d8%a7%d9%84%d9%81%d9%88%d8%aa%d9%88%d8%ba%d8%b1%d8%a7%d9%81%d9%8a%d8%a9-%d9%85%d9%87%d8%a7-%d9%85%d8%b9%d9%84/
CATEGORIES:Débat psy
ATTACH;FMTTYPE=image/jpeg:https://cprmclinicslb.com/wp-content/uploads/2024/04/WhatsApp-Image-2024-04-22-at-16.28.40.jpeg
END:VEVENT
END:VCALENDAR