BEGIN:VCALENDAR
VERSION:2.0
PRODID:-//CPRM - ECPv6.15.20//NONSGML v1.0//EN
CALSCALE:GREGORIAN
METHOD:PUBLISH
X-ORIGINAL-URL:https://cprmclinicslb.com
X-WR-CALDESC:Events for CPRM
REFRESH-INTERVAL;VALUE=DURATION:PT1H
X-Robots-Tag:noindex
X-PUBLISHED-TTL:PT1H
BEGIN:VTIMEZONE
TZID:UTC
BEGIN:STANDARD
TZOFFSETFROM:+0000
TZOFFSETTO:+0000
TZNAME:UTC
DTSTART:20220101T000000
END:STANDARD
END:VTIMEZONE
BEGIN:VEVENT
DTSTART;TZID=UTC:20260311T053000
DTEND;TZID=UTC:20260311T210000
DTSTAMP:20260422T125015
CREATED:20260225T183750Z
LAST-MODIFIED:20260225T183754Z
UID:7146-1773207000-1773262800@cprmclinicslb.com
SUMMARY:إفطار رمضان 2026
DESCRIPTION:
URL:https://cprmclinicslb.com/event/%d8%a5%d9%81%d8%b7%d8%a7%d8%b1-%d8%b1%d9%85%d8%b6%d8%a7%d9%86-2026/
CATEGORIES:افطار رمضان
END:VEVENT
BEGIN:VEVENT
DTSTART;TZID=UTC:20240404T183000
DTEND;TZID=UTC:20240404T200000
DTSTAMP:20260422T125015
CREATED:20240422T204130Z
LAST-MODIFIED:20240429T195505Z
UID:5969-1712255400-1712260800@cprmclinicslb.com
SUMMARY:إفطار رمضان 2024
DESCRIPTION:افطار رمضان\n\n\n\n\nإفطار رمضان 2024\n\n\n\nالخميس في 4 نيسان 2024 \n\n\n\nدار بيروت – الجميزة
URL:https://cprmclinicslb.com/event/%d8%a5%d9%81%d8%b7%d8%a7%d8%b1-%d8%b1%d9%85%d8%b6%d8%a7%d9%86-2024-2/
CATEGORIES:افطار رمضان
ATTACH;FMTTYPE=image/jpeg:https://cprmclinicslb.com/wp-content/uploads/2024/04/WhatsApp-Image-2024-04-22-at-16.24.13.jpeg
END:VEVENT
BEGIN:VEVENT
DTSTART;TZID=UTC:20230418T183000
DTEND;TZID=UTC:20230418T203000
DTSTAMP:20260422T125015
CREATED:20240422T211149Z
LAST-MODIFIED:20240429T200526Z
UID:6007-1681842600-1681849800@cprmclinicslb.com
SUMMARY:إفطار رمضان 2023
DESCRIPTION:افطار رمضان\n\n\n\n\nإفطار رمضان 2023\n\n\n\nالخميس في 18 نيسان 2023 \n\n\n\nدار بيروت – الجميزة
URL:https://cprmclinicslb.com/event/%d8%a5%d9%81%d8%b7%d8%a7%d8%b1-%d8%b1%d9%85%d8%b6%d8%a7%d9%86-2023/
CATEGORIES:افطار رمضان
ATTACH;FMTTYPE=image/jpeg:https://cprmclinicslb.com/wp-content/uploads/2024/04/WhatsApp-Image-2024-04-22-at-16.32.32-1.jpeg
END:VEVENT
END:VCALENDAR